BEGIN:VCALENDAR
VERSION:2.0
PRODID:-//The Arts Incubator - ECPv6.15.20//NONSGML v1.0//EN
CALSCALE:GREGORIAN
METHOD:PUBLISH
X-ORIGINAL-URL:https://artsincubator.ca
X-WR-CALDESC:Events for The Arts Incubator
REFRESH-INTERVAL;VALUE=DURATION:PT1H
X-Robots-Tag:noindex
X-PUBLISHED-TTL:PT1H
BEGIN:VTIMEZONE
TZID:America/Winnipeg
BEGIN:DAYLIGHT
TZOFFSETFROM:-0600
TZOFFSETTO:-0500
TZNAME:CDT
DTSTART:20250309T080000
END:DAYLIGHT
BEGIN:STANDARD
TZOFFSETFROM:-0500
TZOFFSETTO:-0600
TZNAME:CST
DTSTART:20251102T070000
END:STANDARD
BEGIN:DAYLIGHT
TZOFFSETFROM:-0600
TZOFFSETTO:-0500
TZNAME:CDT
DTSTART:20260308T080000
END:DAYLIGHT
BEGIN:STANDARD
TZOFFSETFROM:-0500
TZOFFSETTO:-0600
TZNAME:CST
DTSTART:20261101T070000
END:STANDARD
BEGIN:DAYLIGHT
TZOFFSETFROM:-0600
TZOFFSETTO:-0500
TZNAME:CDT
DTSTART:20270314T080000
END:DAYLIGHT
BEGIN:STANDARD
TZOFFSETFROM:-0500
TZOFFSETTO:-0600
TZNAME:CST
DTSTART:20271107T070000
END:STANDARD
END:VTIMEZONE
BEGIN:VEVENT
DTSTART;TZID=America/Winnipeg:20260412T150000
DTEND;TZID=America/Winnipeg:20260412T190000
DTSTAMP:20260420T000836
CREATED:20260412T171753Z
LAST-MODIFIED:20260412T173629Z
UID:1765774396797-1776006000-1776020400@artsincubator.ca
SUMMARY:Learn More about the Integrated Impact Assessment for the Deep Geological Repository (DGR) for Canada's Used Nuclear Fuel Project
DESCRIPTION:The Impact Assessment Agency of Canada and the Canadian Nuclear Safety Commission are holding a series of information sessions regarding the federal regulatory process for Canada’s used nuclear fuel project. \nProject Overview\nProject Name: Deep Geological Repository (DGR) for Canada’s Used Nuclear Fuel Project. \nNature of Project: Waste Management. \nDescription: A proposal by the Nuclear Waste Management Organization for a new underground system designed to safely contain and isolate used nuclear fuel. \nLocation: 43 km northwest of Ignace\, Ontario. \nInformation Sessions\nIndigenous Peoples and the public are invited to attend the following sessions to learn more and speak with officials: \nThunder Bay\, Ontario \n\nDate & Time: Sunday\, April 19\, 2026\, from 6:00 p.m. to 8:00 p.m..\nLocation: Main Hall\, North End Community Center\, 954 Huron Avenue.\n\nDryden\, Ontario \n\nDate & Time: Monday\, April 20\, 2026\, from 4:00 p.m. to 7:00 p.m..\nLocation: Dryden Go Getters Senior Center\, 84 St Charles Street.\n\nIgnace\, Ontario (Mid-day) \n\nDate & Time: Tuesday\, April 21\, 2026\, from 12:00 p.m. to 1:00 p.m..\nLocation: Silver Tops Senior Center\, 300 Pine Street.\n\nIgnace\, Ontario (Evening) \n\nDate & Time: Tuesday\, April 21\, 2026\, from 6:00 p.m. to 8:00 p.m..\nLocation: Ignace Municipal Office\, 34 Main Street.\n\nMelgund Township\, Ontario \n\nDate & Time: Wednesday\, April 22\, 2026\, from 3:00 p.m. to 7:00 p.m..\nLocation: Dyment Recreation Hall\, 13 Melgund 3A Road.
URL:https://artsincubator.ca/event/learn-more-about-the-integrated-impact-assessment-for-the-deep-geological-repository-dgr-for-canadas-used-nuclear-fuel-project/
LOCATION:Dyment Recreation Hall\, HMX9+8Q\, Borups Corners\, Ontario\, P0V 1P0\, Canada
END:VEVENT
BEGIN:VEVENT
DTSTART;TZID=America/Winnipeg:20260414T183000
DTEND;TZID=America/Winnipeg:20260414T193000
DTSTAMP:20260420T000836
CREATED:20260412T173851Z
LAST-MODIFIED:20260412T174006Z
UID:1765774396804-1776191400-1776195000@artsincubator.ca
SUMMARY:Public Information Session - DGR for Canada's Nuclear Fuel Project
DESCRIPTION:IAAC and the CNSC invite Indigenous Peoples and the public to attend a virtual information and engagement session via Zoom to learn about how to submit comments on the draft Integrated Tailored Impact Statement Guidelines and draft Public Participation Plan. A French virtual information session is available upon request.\n\n\nApril 14\, 2026 6:30 p.m. to 7:30 p.m. (Central Time)\nZoom: (Join Meeting)
URL:https://artsincubator.ca/event/public-information-session-dgr-for-canadas-nuclear-fuel-project/
END:VEVENT
BEGIN:VEVENT
DTSTART;TZID=America/Winnipeg:20260422T150000
DTEND;TZID=America/Winnipeg:20260422T190000
DTSTAMP:20260420T000836
CREATED:20260326T162820Z
LAST-MODIFIED:20260326T183339Z
UID:1765774396714-1776870000-1776884400@artsincubator.ca
SUMMARY:Nuclear Waste Impact Assessment Open House and Information Session
DESCRIPTION:On April 22\, 2026\, from 3:00 to 7:00 p.m.\, the Dyment Recreation Hall in Melgund Township will host an important community information session and open house focused on the federal impact assessment process for the proposed NWMO Deep Geological Repository (DGR) for Canada’s Used Nuclear Fuel Project. \nThis event is an opportunity for residents to engage directly with representatives from the Impact Assessment Agency of Canada (IAAC) and better understand how the federal review process works. The session will include a short presentation outlining the current stage of the assessment\, followed by an open-house format designed for one-on-one conversations and community dialogue. \nAt the heart of the discussion are two draft documents currently open for public comment: the Integrated Tailored Impact Statement Guidelines and the Public Participation Plan. These documents will influence what studies are required\, what issues are examined\, and how communities can stay involved moving forward. \nParticipants will learn how to submit comments\, what kinds of input are most useful\, and how local knowledge and concerns can be reflected in the assessment process. Whether you have technical questions or simply want to better understand what’s happening\, this session is designed to meet people where they are. \nThe open house format allows for flexibility\, so you can drop in at any time between 3:00 and 7:00 p.m. and engage at your own comfort level. Staff will be available throughout the afternoon and evening to answer questions and provide guidance. \nThis is a valuable opportunity for the community to be informed\, heard\, and involved. Your participation helps ensure that local perspectives are part of the process. \nAll are welcome! \n \nWhere: Dyment Recreation Hall When: April 22\, 2026 from 3:00 p.m. to 7:00 p.m. Directions: Click here for Google Maps For More information: Visit the IAAC web site. \n\n\n \nThis open house is organized in partnership with the Local Services Board of Melgund\, Art Borups Corners\, Melgund Recreation\, Arts and Culture and is made possible with funding from the Impact Assessment Agency of Canada Participant Funding program. We greatly appreciate their support.
URL:https://artsincubator.ca/event/nuclear-waste-consultation-event/
LOCATION:Dyment Recreation Hall\, HMX9+8Q\, Borups Corners\, Ontario\, P0V 1P0\, Canada
ORGANIZER;CN="Art Borups Corners":MAILTO:info@artsincubator.ca
END:VEVENT
END:VCALENDAR