BEGIN:VCALENDAR
VERSION:2.0
PRODID:-//The Arts Incubator - ECPv6.15.20//NONSGML v1.0//EN
CALSCALE:GREGORIAN
METHOD:PUBLISH
X-ORIGINAL-URL:https://artsincubator.ca
X-WR-CALDESC:Events for The Arts Incubator
REFRESH-INTERVAL;VALUE=DURATION:PT1H
X-Robots-Tag:noindex
X-PUBLISHED-TTL:PT1H
BEGIN:VTIMEZONE
TZID:UTC
BEGIN:STANDARD
TZOFFSETFROM:+0000
TZOFFSETTO:+0000
TZNAME:UTC
DTSTART:20240101T000000
END:STANDARD
END:VTIMEZONE
BEGIN:VEVENT
DTSTART;TZID=UTC:20250115T010000
DTEND;TZID=UTC:20250115T235900
DTSTAMP:20260421T083928
CREATED:20250102T072733Z
LAST-MODIFIED:20250102T072733Z
UID:44287-1736902800-1736985540@artsincubator.ca
SUMMARY:Learn - Residencies
DESCRIPTION:Today is the final opportunity to apply for the Learn – Residencies Program\, with applications due by 11:59 p.m. This program provides an invaluable chance for artists to enhance their skills and gain mentorship. We strongly encourage you to submit your application to the Manitoba Arts Council and take advantage of this unique professional development opportunity.
URL:https://artsincubator.ca/event/learn-residencies/
CATEGORIES:Deadlines
END:VEVENT
BEGIN:VEVENT
DTSTART;TZID=UTC:20250130T010000
DTEND;TZID=UTC:20250130T235900
DTSTAMP:20260421T083928
CREATED:20250102T072733Z
LAST-MODIFIED:20250102T072733Z
UID:44288-1738198800-1738281540@artsincubator.ca
SUMMARY:Share - Artists in Communities Program
DESCRIPTION:Today is the final opportunity to submit your application for the Share – Artists in Communities Program. Applications must be received by 11:59 p.m. to be considered for this valuable opportunity to engage with your community through the arts. We encourage all eligible artists to apply and contribute to the vibrant cultural landscape of Manitoba.
URL:https://artsincubator.ca/event/share-artists-in-communities-program/
CATEGORIES:Deadlines
END:VEVENT
END:VCALENDAR