BEGIN:VCALENDAR
VERSION:2.0
PRODID:-//The Arts Incubator - ECPv6.15.20//NONSGML v1.0//EN
CALSCALE:GREGORIAN
METHOD:PUBLISH
X-ORIGINAL-URL:https://artsincubator.ca
X-WR-CALDESC:Events for The Arts Incubator
REFRESH-INTERVAL;VALUE=DURATION:PT1H
X-Robots-Tag:noindex
X-PUBLISHED-TTL:PT1H
BEGIN:VTIMEZONE
TZID:America/Winnipeg
BEGIN:DAYLIGHT
TZOFFSETFROM:-0600
TZOFFSETTO:-0500
TZNAME:CDT
DTSTART:20250309T080000
END:DAYLIGHT
BEGIN:STANDARD
TZOFFSETFROM:-0500
TZOFFSETTO:-0600
TZNAME:CST
DTSTART:20251102T070000
END:STANDARD
BEGIN:DAYLIGHT
TZOFFSETFROM:-0600
TZOFFSETTO:-0500
TZNAME:CDT
DTSTART:20260308T080000
END:DAYLIGHT
BEGIN:STANDARD
TZOFFSETFROM:-0500
TZOFFSETTO:-0600
TZNAME:CST
DTSTART:20261101T070000
END:STANDARD
BEGIN:DAYLIGHT
TZOFFSETFROM:-0600
TZOFFSETTO:-0500
TZNAME:CDT
DTSTART:20270314T080000
END:DAYLIGHT
BEGIN:STANDARD
TZOFFSETFROM:-0500
TZOFFSETTO:-0600
TZNAME:CST
DTSTART:20271107T070000
END:STANDARD
END:VTIMEZONE
BEGIN:VEVENT
DTSTART;TZID=America/Winnipeg:20260412T150000
DTEND;TZID=America/Winnipeg:20260412T190000
DTSTAMP:20260419T120317
CREATED:20260412T171753Z
LAST-MODIFIED:20260412T173629Z
UID:1765774396797-1776006000-1776020400@artsincubator.ca
SUMMARY:Learn More about the Integrated Impact Assessment for the Deep Geological Repository (DGR) for Canada's Used Nuclear Fuel Project
DESCRIPTION:The Impact Assessment Agency of Canada and the Canadian Nuclear Safety Commission are holding a series of information sessions regarding the federal regulatory process for Canada’s used nuclear fuel project. \nProject Overview\nProject Name: Deep Geological Repository (DGR) for Canada’s Used Nuclear Fuel Project. \nNature of Project: Waste Management. \nDescription: A proposal by the Nuclear Waste Management Organization for a new underground system designed to safely contain and isolate used nuclear fuel. \nLocation: 43 km northwest of Ignace\, Ontario. \nInformation Sessions\nIndigenous Peoples and the public are invited to attend the following sessions to learn more and speak with officials: \nThunder Bay\, Ontario \n\nDate & Time: Sunday\, April 19\, 2026\, from 6:00 p.m. to 8:00 p.m..\nLocation: Main Hall\, North End Community Center\, 954 Huron Avenue.\n\nDryden\, Ontario \n\nDate & Time: Monday\, April 20\, 2026\, from 4:00 p.m. to 7:00 p.m..\nLocation: Dryden Go Getters Senior Center\, 84 St Charles Street.\n\nIgnace\, Ontario (Mid-day) \n\nDate & Time: Tuesday\, April 21\, 2026\, from 12:00 p.m. to 1:00 p.m..\nLocation: Silver Tops Senior Center\, 300 Pine Street.\n\nIgnace\, Ontario (Evening) \n\nDate & Time: Tuesday\, April 21\, 2026\, from 6:00 p.m. to 8:00 p.m..\nLocation: Ignace Municipal Office\, 34 Main Street.\n\nMelgund Township\, Ontario \n\nDate & Time: Wednesday\, April 22\, 2026\, from 3:00 p.m. to 7:00 p.m..\nLocation: Dyment Recreation Hall\, 13 Melgund 3A Road.
URL:https://artsincubator.ca/event/learn-more-about-the-integrated-impact-assessment-for-the-deep-geological-repository-dgr-for-canadas-used-nuclear-fuel-project/
LOCATION:Dyment Recreation Hall\, HMX9+8Q\, Borups Corners\, Ontario\, P0V 1P0\, Canada
END:VEVENT
END:VCALENDAR